Workbook

Sheet Merge
A1: Merging three tables with XLOOKUP
A2: Thirty rows of RM yields (three RMs, 2015-2024). Column I looks up each RM's weather station from the 'RM lookup' sheet: many yield rows, one lookup row per RM. Column J looks up the May-August rain for that station AND that year from the 'Precip' sheet, joining the two keys with & "|" & the way the composite key in Module 1 did. Column K shows what happens when you forget the year: XLOOKUP returns the first match for the station, 2015's rain, for every year, and says nothing.
A4: Year | B4: RM | C4: Spring Wheat | D4: Durum | E4: Canola | F4: Barley | G4: Oats | H4: Peas | I4: weather_station | J4: precip_may_aug_mm | K4: WRONG: station only | L4: formula (column J)
A5: 2015 | B5: 1 | C5: 34.32 | D5: 29.18 | E5: 28.65 | F5: 50.96 | G5: 56.36 | H5: 37.7 | I5: =_xlfn.XLOOKUP(B5,'RM lookup'!$A$2:$A$297,'RM lookup'!$E$2:$E$297) -> Kipling | J5: =_xlfn.XLOOKUP(I5&"|"&A5,Precip!$A$2:$A$161&"|"&Precip!$B$2:$B$161,Precip!$C$2:$C$161) -> 183.2 | K5: =_xlfn.XLOOKUP(I5,Precip!$A$2:$A$161,Precip!$C$2:$C$161) -> 183.2 | L5: =_xlfn.FORMULATEXT(J5) -> =@XLOOKUP(I5&"|"&A5,Precip!$A$2:$A$161&"|"&Precip!$B$2:$B$161,Precip!$C$2:$C$161)
A6: 2016 | B6: 1 | C6: 40.5 | D6: 38.4 | E6: 32.1 | F6: 68.1 | G6: 75.7 | H6: 26.2 | I6: =_xlfn.XLOOKUP(B6,'RM lookup'!$A$2:$A$297,'RM lookup'!$E$2:$E$297) -> Kipling | J6: =_xlfn.XLOOKUP(I6&"|"&A6,Precip!$A$2:$A$161&"|"&Precip!$B$2:$B$161,Precip!$C$2:$C$161) -> 313 | K6: =_xlfn.XLOOKUP(I6,Precip!$A$2:$A$161,Precip!$C$2:$C$161) -> 183.2 | L6: =_xlfn.FORMULATEXT(J6) -> =@XLOOKUP(I6&"|"&A6,Precip!$A$2:$A$161&"|"&Precip!$B$2:$B$161,Precip!$C$2:$C$161)
A7: 2017 | B7: 1 | C7: 45.97 | E7: 39.19 | G7: 85.82 | H7: 43.4 | I7: =_xlfn.XLOOKUP(B7,'RM lookup'!$A$2:$A$297,'RM lookup'!$E$2:$E$297) -> Kipling | J7: =_xlfn.XLOOKUP(I7&"|"&A7,Precip!$A$2:$A$161&"|"&Precip!$B$2:$B$161,Precip!$C$2:$C$161) -> 157.4 | K7: =_xlfn.XLOOKUP(I7,Precip!$A$2:$A$161,Precip!$C$2:$C$161) -> 183.2 | L7: =_xlfn.FORMULATEXT(J7) -> =@XLOOKUP(I7&"|"&A7,Precip!$A$2:$A$161&"|"&Precip!$B$2:$B$161,Precip!$C$2:$C$161)
A8: 2018 | B8: 1 | C8: 50 | E8: 39.2 | F8: 76 | G8: 96 | H8: 42 | I8: =_xlfn.XLOOKUP(B8,'RM lookup'!$A$2:$A$297,'RM lookup'!$E$2:$E$297) -> Kipling | J8: =_xlfn.XLOOKUP(I8&"|"&A8,Precip!$A$2:$A$161&"|"&Precip!$B$2:$B$161,Precip!$C$2:$C$161) -> 274.1 | K8: =_xlfn.XLOOKUP(I8,Precip!$A$2:$A$161,Precip!$C$2:$C$161) -> 183.2 | L8: =_xlfn.FORMULATEXT(J8) -> =@XLOOKUP(I8&"|"&A8,Precip!$A$2:$A$161&"|"&Precip!$B$2:$B$161,Precip!$C$2:$C$161)
A9: 2019 | B9: 1 | C9: 50.9 | E9: 32.4 | F9: 83.5 | G9: 102.1 | H9: 43.8 | I9: =_xlfn.XLOOKUP(B9,'RM lookup'!$A$2:$A$297,'RM lookup'!$E$2:$E$297) -> Kipling | J9: =_xlfn.XLOOKUP(I9&"|"&A9,Precip!$A$2:$A$161&"|"&Precip!$B$2:$B$161,Precip!$C$2:$C$161) -> 251.8 | K9: =_xlfn.XLOOKUP(I9,Precip!$A$2:$A$161,Precip!$C$2:$C$161) -> 183.2 | L9: =_xlfn.FORMULATEXT(J9) -> =@XLOOKUP(I9&"|"&A9,Precip!$A$2:$A$161&"|"&Precip!$B$2:$B$161,Precip!$C$2:$C$161)
A10: 2020 | B10: 1 | C10: 56 | E10: 39.9 | F10: 94 | G10: 120.2 | H10: 48.4 | I10: =_xlfn.XLOOKUP(B10,'RM lookup'!$A$2:$A$297,'RM lookup'!$E$2:$E$297) -> Kipling | J10: =_xlfn.XLOOKUP(I10&"|"&A10,Precip!$A$2:$A$161&"|"&Precip!$B$2:$B$161,Precip!$C$2:$C$161) -> 178.2 | K10: =_xlfn.XLOOKUP(I10,Precip!$A$2:$A$161,Precip!$C$2:$C$161) -> 183.2 | L10: =_xlfn.FORMULATEXT(J10) -> =@XLOOKUP(I10&"|"&A10,Precip!$A$2:$A$161&"|"&Precip!$B$2:$B$161,Precip!$C$2:$C$161)
A11: 2021 | B11: 1 | C11: 46.2 | E11: 33.2 | F11: 63.7 | G11: 84 | H11: 37.7 | I11: =_xlfn.XLOOKUP(B11,'RM lookup'!$A$2:$A$297,'RM lookup'!$E$2:$E$297) -> Kipling | J11: =_xlfn.XLOOKUP(I11&"|"&A11,Precip!$A$2:$A$161&"|"&Precip!$B$2:$B$161,Precip!$C$2:$C$161) -> 204.2 | K11: =_xlfn.XLOOKUP(I11,Precip!$A$2:$A$161,Precip!$C$2:$C$161) -> 183.2 | L11: =_xlfn.FORMULATEXT(J11) -> =@XLOOKUP(I11&"|"&A11,Precip!$A$2:$A$161&"|"&Precip!$B$2:$B$161,Precip!$C$2:$C$161)
A12: 2022 | B12: 1 | C12: 52.4 | E12: 37.4 | F12: 90.3 | G12: 105.6 | H12: 47.4 | I12: =_xlfn.XLOOKUP(B12,'RM lookup'!$A$2:$A$297,'RM lookup'!$E$2:$E$297) -> Kipling | J12: =_xlfn.XLOOKUP(I12&"|"&A12,Precip!$A$2:$A$161&"|"&Precip!$B$2:$B$161,Precip!$C$2:$C$161) -> 370.8 | K12: =_xlfn.XLOOKUP(I12,Precip!$A$2:$A$161,Precip!$C$2:$C$161) -> 183.2 | L12: =_xlfn.FORMULATEXT(J12) -> =@XLOOKUP(I12&"|"&A12,Precip!$A$2:$A$161&"|"&Precip!$B$2:$B$161,Precip!$C$2:$C$161)
A13: 2023 | B13: 1 | C13: 50.8 | E13: 36.8 | F13: 53 | G13: 55.1 | H13: 44.9 | I13: =_xlfn.XLOOKUP(B13,'RM lookup'!$A$2:$A$297,'RM lookup'!$E$2:$E$297) -> Kipling | J13: =_xlfn.XLOOKUP(I13&"|"&A13,Precip!$A$2:$A$161&"|"&Precip!$B$2:$B$161,Precip!$C$2:$C$161) -> 184 | K13: =_xlfn.XLOOKUP(I13,Precip!$A$2:$A$161,Precip!$C$2:$C$161) -> 183.2 | L13: =_xlfn.FORMULATEXT(J13) -> =@XLOOKUP(I13&"|"&A13,Precip!$A$2:$A$161&"|"&Precip!$B$2:$B$161,Precip!$C$2:$C$161)
A14: 2024 | B14: 1 | C14: 46.7 | E14: 36.4 | F14: 77.1 | G14: 99.4 | H14: 40.1 | I14: =_xlfn.XLOOKUP(B14,'RM lookup'!$A$2:$A$297,'RM lookup'!$E$2:$E$297) -> Kipling | J14: =_xlfn.XLOOKUP(I14&"|"&A14,Precip!$A$2:$A$161&"|"&Precip!$B$2:$B$161,Precip!$C$2:$C$161) -> 294.6 | K14: =_xlfn.XLOOKUP(I14,Precip!$A$2:$A$161,Precip!$C$2:$C$161) -> 183.2 | L14: =_xlfn.FORMULATEXT(J14) -> =@XLOOKUP(I14&"|"&A14,Precip!$A$2:$A$161&"|"&Precip!$B$2:$B$161,Precip!$C$2:$C$161)
A15: 2015 | B15: 92 | C15: 40.8 | E15: 36.07 | F15: 62.39 | G15: 62.64 | H15: 29.7 | I15: =_xlfn.XLOOKUP(B15,'RM lookup'!$A$2:$A$297,'RM lookup'!$E$2:$E$297) -> Kipling | J15: =_xlfn.XLOOKUP(I15&"|"&A15,Precip!$A$2:$A$161&"|"&Precip!$B$2:$B$161,Precip!$C$2:$C$161) -> 183.2 | K15: =_xlfn.XLOOKUP(I15,Precip!$A$2:$A$161,Precip!$C$2:$C$161) -> 183.2 | L15: =_xlfn.FORMULATEXT(J15) -> =@XLOOKUP(I15&"|"&A15,Precip!$A$2:$A$161&"|"&Precip!$B$2:$B$161,Precip!$C$2:$C$161)
A16: 2016 | B16: 92 | C16: 48.6 | D16: 62.1 | E16: 40.3 | F16: 65.7 | G16: 54.2 | H16: 45.1 | I16: =_xlfn.XLOOKUP(B16,'RM lookup'!$A$2:$A$297,'RM lookup'!$E$2:$E$297) -> Kipling | J16: =_xlfn.XLOOKUP(I16&"|"&A16,Precip!$A$2:$A$161&"|"&Precip!$B$2:$B$161,Precip!$C$2:$C$161) -> 313 | K16: =_xlfn.XLOOKUP(I16,Precip!$A$2:$A$161,Precip!$C$2:$C$161) -> 183.2 | L16: =_xlfn.FORMULATEXT(J16) -> =@XLOOKUP(I16&"|"&A16,Precip!$A$2:$A$161&"|"&Precip!$B$2:$B$161,Precip!$C$2:$C$161)
A17: 2017 | B17: 92 | C17: 51.41 | E17: 40.66 | F17: 63.07 | G17: 68.85 | H17: 49.7 | I17: =_xlfn.XLOOKUP(B17,'RM lookup'!$A$2:$A$297,'RM lookup'!$E$2:$E$297) -> Kipling | J17: =_xlfn.XLOOKUP(I17&"|"&A17,Precip!$A$2:$A$161&"|"&Precip!$B$2:$B$161,Precip!$C$2:$C$161) -> 157.4 | K17: =_xlfn.XLOOKUP(I17,Precip!$A$2:$A$161,Precip!$C$2:$C$161) -> 183.2 | L17: =_xlfn.FORMULATEXT(J17) -> =@XLOOKUP(I17&"|"&A17,Precip!$A$2:$A$161&"|"&Precip!$B$2:$B$161,Precip!$C$2:$C$161)
A18: 2018 | B18: 92 | C18: 53.2 | D18: 51 | E18: 40.7 | F18: 63.2 | G18: 74 | H18: 52 | I18: =_xlfn.XLOOKUP(B18,'RM lookup'!$A$2:$A$297,'RM lookup'!$E$2:$E$297) -> Kipling | J18: =_xlfn.XLOOKUP(I18&"|"&A18,Precip!$A$2:$A$161&"|"&Precip!$B$2:$B$161,Precip!$C$2:$C$161) -> 274.1 | K18: =_xlfn.XLOOKUP(I18,Precip!$A$2:$A$161,Precip!$C$2:$C$161) -> 183.2 | L18: =_xlfn.FORMULATEXT(J18) -> =@XLOOKUP(I18&"|"&A18,Precip!$A$2:$A$161&"|"&Precip!$B$2:$B$161,Precip!$C$2:$C$161)
A19: 2019 | B19: 92 | C19: 58.9 | E19: 43.3 | F19: 82.2 | G19: 78.7 | H19: 50.2 | I19: =_xlfn.XLOOKUP(B19,'RM lookup'!$A$2:$A$297,'RM lookup'!$E$2:$E$297) -> Kipling | J19: =_xlfn.XLOOKUP(I19&"|"&A19,Precip!$A$2:$A$161&"|"&Precip!$B$2:$B$161,Precip!$C$2:$C$161) -> 251.8 | K19: =_xlfn.XLOOKUP(I19,Precip!$A$2:$A$161,Precip!$C$2:$C$161) -> 183.2 | L19: =_xlfn.FORMULATEXT(J19) -> =@XLOOKUP(I19&"|"&A19,Precip!$A$2:$A$161&"|"&Precip!$B$2:$B$161,Precip!$C$2:$C$161)
A20: 2020 | B20: 92 | C20: 63.2 | D20: 64.9 | E20: 45.6 | F20: 85 | G20: 96.3 | H20: 54.2 | I20: =_xlfn.XLOOKUP(B20,'RM lookup'!$A$2:$A$297,'RM lookup'!$E$2:$E$297) -> Kipling | J20: =_xlfn.XLOOKUP(I20&"|"&A20,Precip!$A$2:$A$161&"|"&Precip!$B$2:$B$161,Precip!$C$2:$C$161) -> 178.2 | K20: =_xlfn.XLOOKUP(I20,Precip!$A$2:$A$161,Precip!$C$2:$C$161) -> 183.2 | L20: =_xlfn.FORMULATEXT(J20) -> =@XLOOKUP(I20&"|"&A20,Precip!$A$2:$A$161&"|"&Precip!$B$2:$B$161,Precip!$C$2:$C$161)
A21: 2021 | B21: 92 | C21: 53.5 | E21: 37 | F21: 65.2 | G21: 69.8 | H21: 43 | I21: =_xlfn.XLOOKUP(B21,'RM lookup'!$A$2:$A$297,'RM lookup'!$E$2:$E$297) -> Kipling | J21: =_xlfn.XLOOKUP(I21&"|"&A21,Precip!$A$2:$A$161&"|"&Precip!$B$2:$B$161,Precip!$C$2:$C$161) -> 204.2 | K21: =_xlfn.XLOOKUP(I21,Precip!$A$2:$A$161,Precip!$C$2:$C$161) -> 183.2 | L21: =_xlfn.FORMULATEXT(J21) -> =@XLOOKUP(I21&"|"&A21,Precip!$A$2:$A$161&"|"&Precip!$B$2:$B$161,Precip!$C$2:$C$161)
A22: 2022 | B22: 92 | C22: 50.7 | D22: 51 | E22: 37.5 | F22: 67.6 | G22: 88.2 | H22: 22.9 | I22: =_xlfn.XLOOKUP(B22,'RM lookup'!$A$2:$A$297,'RM lookup'!$E$2:$E$297) -> Kipling | J22: =_xlfn.XLOOKUP(I22&"|"&A22,Precip!$A$2:$A$161&"|"&Precip!$B$2:$B$161,Precip!$C$2:$C$161) -> 370.8 | K22: =_xlfn.XLOOKUP(I22,Precip!$A$2:$A$161,Precip!$C$2:$C$161) -> 183.2 | L22: =_xlfn.FORMULATEXT(J22) -> =@XLOOKUP(I22&"|"&A22,Precip!$A$2:$A$161&"|"&Precip!$B$2:$B$161,Precip!$C$2:$C$161)
A23: 2023 | B23: 92 | C23: 56.1 | D23: 52.4 | E23: 43.1 | F23: 77.4 | G23: 78.6 | H23: 45.1 | I23: =_xlfn.XLOOKUP(B23,'RM lookup'!$A$2:$A$297,'RM lookup'!$E$2:$E$297) -> Kipling | J23: =_xlfn.XLOOKUP(I23&"|"&A23,Precip!$A$2:$A$161&"|"&Precip!$B$2:$B$161,Precip!$C$2:$C$161) -> 184 | K23: =_xlfn.XLOOKUP(I23,Precip!$A$2:$A$161,Precip!$C$2:$C$161) -> 183.2 | L23: =_xlfn.FORMULATEXT(J23) -> =@XLOOKUP(I23&"|"&A23,Precip!$A$2:$A$161&"|"&Precip!$B$2:$B$161,Precip!$C$2:$C$161)
A24: 2024 | B24: 92 | C24: 60.1 | D24: 50.3 | E24: 39.1 | F24: 82.9 | G24: 120.4 | H24: 48.7 | I24: =_xlfn.XLOOKUP(B24,'RM lookup'!$A$2:$A$297,'RM lookup'!$E$2:$E$297) -> Kipling | J24: =_xlfn.XLOOKUP(I24&"|"&A24,Precip!$A$2:$A$161&"|"&Precip!$B$2:$B$161,Precip!$C$2:$C$161) -> 294.6 | K24: =_xlfn.XLOOKUP(I24,Precip!$A$2:$A$161,Precip!$C$2:$C$161) -> 183.2 | L24: =_xlfn.FORMULATEXT(J24) -> =@XLOOKUP(I24&"|"&A24,Precip!$A$2:$A$161&"|"&Precip!$B$2:$B$161,Precip!$C$2:$C$161)
A25: 2015 | B25: 171 | C25: 32.41 | D25: 30.41 | E25: 23.32 | F25: 47.68 | G25: 37.34 | H25: 24.6 | I25: =_xlfn.XLOOKUP(B25,'RM lookup'!$A$2:$A$297,'RM lookup'!$E$2:$E$297) -> Maple Creek | J25: =_xlfn.XLOOKUP(I25&"|"&A25,Precip!$A$2:$A$161&"|"&Precip!$B$2:$B$161,Precip!$C$2:$C$161) -> 111.1 | K25: =_xlfn.XLOOKUP(I25,Precip!$A$2:$A$161,Precip!$C$2:$C$161) -> 111.1 | L25: =_xlfn.FORMULATEXT(J25) -> =@XLOOKUP(I25&"|"&A25,Precip!$A$2:$A$161&"|"&Precip!$B$2:$B$161,Precip!$C$2:$C$161)
A26: 2016 | B26: 171 | C26: 47.8 | D26: 39.6 | E26: 39.2 | F26: 45.2 | G26: 75 | H26: 35.5 | I26: =_xlfn.XLOOKUP(B26,'RM lookup'!$A$2:$A$297,'RM lookup'!$E$2:$E$297) -> Maple Creek | J26: =_xlfn.XLOOKUP(I26&"|"&A26,Precip!$A$2:$A$161&"|"&Precip!$B$2:$B$161,Precip!$C$2:$C$161) -> 304.4 | K26: =_xlfn.XLOOKUP(I26,Precip!$A$2:$A$161,Precip!$C$2:$C$161) -> 111.1 | L26: =_xlfn.FORMULATEXT(J26) -> =@XLOOKUP(I26&"|"&A26,Precip!$A$2:$A$161&"|"&Precip!$B$2:$B$161,Precip!$C$2:$C$161)
A27: 2017 | B27: 171 | C27: 34.95 | D27: 35.77 | E27: 22.07 | F27: 29.03 | H27: 27.2 | I27: =_xlfn.XLOOKUP(B27,'RM lookup'!$A$2:$A$297,'RM lookup'!$E$2:$E$297) -> Maple Creek | J27: =_xlfn.XLOOKUP(I27&"|"&A27,Precip!$A$2:$A$161&"|"&Precip!$B$2:$B$161,Precip!$C$2:$C$161) -> 85.2 | K27: =_xlfn.XLOOKUP(I27,Precip!$A$2:$A$161,Precip!$C$2:$C$161) -> 111.1 | L27: =_xlfn.FORMULATEXT(J27) -> =@XLOOKUP(I27&"|"&A27,Precip!$A$2:$A$161&"|"&Precip!$B$2:$B$161,Precip!$C$2:$C$161)
A28: 2018 | B28: 171 | C28: 30 | D28: 29.9 | E28: 22.1 | F28: 29 | G28: 26 | H28: 24.1 | I28: =_xlfn.XLOOKUP(B28,'RM lookup'!$A$2:$A$297,'RM lookup'!$E$2:$E$297) -> Maple Creek | J28: =_xlfn.XLOOKUP(I28&"|"&A28,Precip!$A$2:$A$161&"|"&Precip!$B$2:$B$161,Precip!$C$2:$C$161) -> 184.9 | K28: =_xlfn.XLOOKUP(I28,Precip!$A$2:$A$161,Precip!$C$2:$C$161) -> 111.1 | L28: =_xlfn.FORMULATEXT(J28) -> =@XLOOKUP(I28&"|"&A28,Precip!$A$2:$A$161&"|"&Precip!$B$2:$B$161,Precip!$C$2:$C$161)
A29: 2019 | B29: 171 | C29: 20.9 | D29: 22.8 | E29: 20.4 | F29: 27.8 | G29: 36.1 | H29: 21.6 | I29: =_xlfn.XLOOKUP(B29,'RM lookup'!$A$2:$A$297,'RM lookup'!$E$2:$E$297) -> Maple Creek | J29: =_xlfn.XLOOKUP(I29&"|"&A29,Precip!$A$2:$A$161&"|"&Precip!$B$2:$B$161,Precip!$C$2:$C$161) -> 157 | K29: =_xlfn.XLOOKUP(I29,Precip!$A$2:$A$161,Precip!$C$2:$C$161) -> 111.1 | L29: =_xlfn.FORMULATEXT(J29) -> =@XLOOKUP(I29&"|"&A29,Precip!$A$2:$A$161&"|"&Precip!$B$2:$B$161,Precip!$C$2:$C$161)
A30: 2020 | B30: 171 | C30: 24.2 | D30: 25.2 | E30: 16 | F30: 29.6 | H30: 27 | I30: =_xlfn.XLOOKUP(B30,'RM lookup'!$A$2:$A$297,'RM lookup'!$E$2:$E$297) -> Maple Creek | J30: =_xlfn.XLOOKUP(I30&"|"&A30,Precip!$A$2:$A$161&"|"&Precip!$B$2:$B$161,Precip!$C$2:$C$161) -> 111 | K30: =_xlfn.XLOOKUP(I30,Precip!$A$2:$A$161,Precip!$C$2:$C$161) -> 111.1 | L30: =_xlfn.FORMULATEXT(J30) -> =@XLOOKUP(I30&"|"&A30,Precip!$A$2:$A$161&"|"&Precip!$B$2:$B$161,Precip!$C$2:$C$161)
A31: 2021 | B31: 171 | C31: 11.1 | D31: 8.8 | E31: 8.4 | F31: 7.4 | H31: 9.9 | I31: =_xlfn.XLOOKUP(B31,'RM lookup'!$A$2:$A$297,'RM lookup'!$E$2:$E$297) -> Maple Creek | J31: =_xlfn.XLOOKUP(I31&"|"&A31,Precip!$A$2:$A$161&"|"&Precip!$B$2:$B$161,Precip!$C$2:$C$161) -> 127.6 | K31: =_xlfn.XLOOKUP(I31,Precip!$A$2:$A$161,Precip!$C$2:$C$161) -> 111.1 | L31: =_xlfn.FORMULATEXT(J31) -> =@XLOOKUP(I31&"|"&A31,Precip!$A$2:$A$161&"|"&Precip!$B$2:$B$161,Precip!$C$2:$C$161)
A32: 2022 | B32: 171 | C32: 18.6 | D32: 21.3 | E32: 10.9 | F32: 18.6 | G32: 16.2 | H32: 21.1 | I32: =_xlfn.XLOOKUP(B32,'RM lookup'!$A$2:$A$297,'RM lookup'!$E$2:$E$297) -> Maple Creek | J32: =_xlfn.XLOOKUP(I32&"|"&A32,Precip!$A$2:$A$161&"|"&Precip!$B$2:$B$161,Precip!$C$2:$C$161) -> 223.9 | K32: =_xlfn.XLOOKUP(I32,Precip!$A$2:$A$161,Precip!$C$2:$C$161) -> 111.1 | L32: =_xlfn.FORMULATEXT(J32) -> =@XLOOKUP(I32&"|"&A32,Precip!$A$2:$A$161&"|"&Precip!$B$2:$B$161,Precip!$C$2:$C$161)
A33: 2023 | B33: 171 | C33: 5 | D33: 4.9 | F33: 4.5 | H33: 7.1 | I33: =_xlfn.XLOOKUP(B33,'RM lookup'!$A$2:$A$297,'RM lookup'!$E$2:$E$297) -> Maple Creek | J33: =_xlfn.XLOOKUP(I33&"|"&A33,Precip!$A$2:$A$161&"|"&Precip!$B$2:$B$161,Precip!$C$2:$C$161) -> 144.4 | K33: =_xlfn.XLOOKUP(I33,Precip!$A$2:$A$161,Precip!$C$2:$C$161) -> 111.1 | L33: =_xlfn.FORMULATEXT(J33) -> =@XLOOKUP(I33&"|"&A33,Precip!$A$2:$A$161&"|"&Precip!$B$2:$B$161,Precip!$C$2:$C$161)
A34: 2024 | B34: 171 | C34: 13.3 | D34: 17 | E34: 7.7 | F34: 29.3 | G34: 21.5 | H34: 18.1 | I34: =_xlfn.XLOOKUP(B34,'RM lookup'!$A$2:$A$297,'RM lookup'!$E$2:$E$297) -> Maple Creek | J34: =_xlfn.XLOOKUP(I34&"|"&A34,Precip!$A$2:$A$161&"|"&Precip!$B$2:$B$161,Precip!$C$2:$C$161) -> 231.9 | K34: =_xlfn.XLOOKUP(I34,Precip!$A$2:$A$161,Precip!$C$2:$C$161) -> 111.1 | L34: =_xlfn.FORMULATEXT(J34) -> =@XLOOKUP(I34&"|"&A34,Precip!$A$2:$A$161&"|"&Precip!$B$2:$B$161,Precip!$C$2:$C$161)
I36: Formulas in I and K:
I37: =_xlfn.FORMULATEXT(I5) -> =XLOOKUP(B5,'RM lookup'!$A$2:$A$297,'RM lookup'!$E$2:$E$297)
I38: =_xlfn.FORMULATEXT(K5) -> =XLOOKUP(I5,Precip!$A$2:$A$161,Precip!$C$2:$C$161)
A40: Checks
A41: RMs with no station found | D41: =COUNTIF(I5:I34,"#N/A") -> 0 | E41: =_xlfn.FORMULATEXT(D41) -> =COUNTIF(I5:I34,"#N/A")
A42: Station-years with no rain found | D42: =COUNTIF(J5:J34,"#N/A") -> 0 | E42: =_xlfn.FORMULATEXT(D42) -> =COUNTIF(J5:J34,"#N/A")

Sheet RM lookup
A1: RM_Number | B1: RM_Name | C1: Census_Division | D1: Population_2021 | E1: Weather_Station | F1: Station_km
A2: 1 | B2: Argyle | C2: Division No. 1 | D2: 331 | E2: Kipling | F2: 145
A3: 2 | B3: Mount Pleasant | C3: Division No. 1 | D3: 419 | E3: Kipling | F3: 133
A4: 3 | B4: Enniskillen | C4: Division No. 1 | D4: 422 | E4: Kipling | F4: 123
A5: 4 | B5: Coalfields | C5: Division No. 1 | D5: 330 | E5: Weyburn | F5: 104
A6: 5 | B6: Estevan | C6: Division No. 1 | D6: 1279 | E6: Weyburn | F6: 83
A7: 6 | B7: Cambria | C7: Division No. 2 | D7: 277 | E7: Weyburn | F7: 69
A8: 7 | B8: Souris Valley | C8: Division No. 2 | D8: 220 | E8: Weyburn | F8: 62
A9: 8 | B9: Lake Alma | C9: Division No. 2 | D9: 269 | E9: Weyburn | F9: 69
A10: 9 | B10: Surprise Valley | C10: Division No. 2 | D10: 211 | E10: Weyburn | F10: 84
A11: 10 | B11: Happy Valley | C11: Division No. 2 | D11: 125 | E11: Weyburn | F11: 115
A12: 11 | B12: Hart Butte | C12: Division No. 3 | D12: 263 | E12: Weyburn | F12: 136
A13: 12 | B13: Poplar Valley | C13: Division No. 3 | D13: 190 | E13: Weyburn | F13: 157
... A297: 622 | B297: Beaver River | C297: Division No. 17 | D297: 1277 | E297: Meadow Lake | F297: 64

Sheet Precip
A1: Station | B1: Year | C1: Precip_May_Aug_mm | D1: Days_Missing
A2: Indian Head CDA | B2: 2015 | C2: 207.3 | D2: 1
A3: Indian Head CDA | B3: 2016 | C3: 254.7 | D3: 2
A4: Indian Head CDA | B4: 2017 | C4: 116.6 | D4: 1
A5: Indian Head CDA | B5: 2018 | C5: 148 | D5: 2
A6: Indian Head CDA | B6: 2019 | C6: 212.8 | D6: 2
A7: Indian Head CDA | B7: 2020 | C7: 113.4 | D7: 2
A8: Indian Head CDA | B8: 2021 | C8: 295.1 | D8: 1
A9: Indian Head CDA | B9: 2022 | C9: 285.6 | D9: 5
A10: Indian Head CDA | B10: 2023 | C10: 119.2 | D10: 0
A11: Indian Head CDA | B11: 2024 | C11: 247.8 | D11: 1
A12: Kelliher | B12: 2015 | C12: 218 | D12: 0
A13: Kelliher | B13: 2016 | C13: 245.4 | D13: 0
... A161: Weyburn | B161: 2024 | C161: 199.7 | D161: 7
