Workbook

Sheet README
A1: Checking and cleaning the field records in Excel
A4: Spreadsheet | B4: Description
A5: RawData | B5: Raw field data
A6: DataSummary | B6: Summary statistics for data checking
A7: CleanData | B7: Data cleaned with power query

Sheet RawData
A1: Field ID | B1: VARIETY_NAME | C1: Acres | D1: Yield (bu/ac) | E1: harvest weight | F1: N rate | G1: Moisture %
A2: F001 | B2: AAC Viewfield | C2: 160 | D2: 67.6 | E2: 297.7 t | F2: 97.1 | G2: 12.4
A3: F002 | B3: Brandon | C3: 320 | D3: 54.9 | E3: 476.0 t | F3: 96.2 | G3: 14.7
A4: F003 | B4: CDC Landmark | C4: 120 | D4: 54.4 | E4: 172.6 t | F4: 0.081 | G4: 12.3
A5: F004 | B5: Brandon AAC | C5: 320 | D5: -99 | E5: 642.5 t | F5: 116.7 | G5: 15.4
A6: F005 | B6: CDC Landmark | C6: 320 | D6: 65.8 | E6: 561.5 t | F6: 89.9 | G6: 12.3
A7: F006 | B7: Brndon | C7: 160 | D7: 50.8 | E7: 222.8 t | F7: 0.113 | G7: N/A
A8: F007 | B8: AAC Viewfield | C8: 80 | D8: -12 | E8: 138.6 t | F8: 135.9 | G8: 14.5
A9: F008 | B9: AAC Brandon | C9: 160 | D9: 60.3 | E9: 264.0 t | F9: 127.3 | G9: 12.4
A10: F009 | B10: CDC Landmark | C10: 160 | D10: 51.5 | E10: 226.5 t | F10: 0.081 | G10: 13.7
A11: F010 | B11: Brandon | C11: 160 | D11: 58.9 | E11: 256.6 t | F11: 92.4 | G11: 16.4
A12: F011 | B12: CDC Landmark | C12: 320 | D12: 54.4 | E12: 481.3 t | F12: 82.9 | G12: 12
A13: F012 | B13: Brandon AAC | C13: 240 | D13: 62 | E13: 402.2 t | F13: 0.103 | G13: 13.5
A14: F013 | B14: AAC Viewfield | C14: 240 | D14: 41.5 | E14: 269.8 t | F14: 82.7 | G14: 16.5
A15: F014 | B15: Brndon | C15: 160 | D15: 57.8 | E15: 249.6 t | F15: 134 | G15: missing
A16: F015 | B16: CDC Landmark | C16: 160 | D16: 54.7 | E16: 234.9 t | F16: 0.106 | G16: 11.6
A17: F016 | B17: AAC Brandon | C17: 160 | D17: 52.9 | E17: 225.5 t | F17: 128.5 | G17: 13
A18: F017 | B18: CDC Landmark | C18: 240 | D18: 63 | E18: 418.7 t | F18: 85.4 | G18: 15.5
A19: F018 | B19: Brandon | C19: 160 | D19: 63.6 | E19: 283.2 t | F19: 0.112 | G19: 15.7
A20: F019 | B20: AAC Viewfield | C20: 120 | D20: 1250 | E20: 177.8 t | F20: 104.1 | G20: 12.6
A21: F020 | B21: Brandon AAC | C21: 160 | D21: 76.6 | E21: 323.9 t | F21: 84.7 | G21: 13.1
A22: F021 | B22: CDC Landmark | C22: 240 | D22: 65.1 | E22: 431.7 t | F22: 0.129 | G22: 15.4
A23: F022 | B23: Brndon | C23: 320 | D23: 57.5 | E23: 492.0 t | F23: 96.8
A24: F023 | B24: CDC Landmark | C24: 240 | D24: -99 | E24: 365.8 t | F24: 87.2 | G24: 16
A25: F024 | B25: AAC Brandon | C25: 120 | D25: 46.5 | E25: 150.5 t | F25: 0.124 | G25: 15.3
A26: F025 | B26: AAC Viewfield | C26: 160 | D26: 51.7 | E26: 226.1 t | F26: 100.8 | G26: 11.6
A27: F026 | B27: Brandon | C27: 160 | D27: 59.1 | E27: 252.7 t | F27: 132.9 | G27: 15.7
A28: F027 | B28: CDC Landmark | C28: 80 | D28: 54 | E28: 120.3 t | F28: 0.13 | G28: 12.2
A29: F028 | B29: Brandon AAC | C29: 160 | D29: 43.3 | E29: 191.4 t | F29: 103.9 | G29: 15
A30: F029 | B30: CDC Landmark | C30: 160 | D30: 63.3 | E30: 268.5 t | F30: 106.3 | G30: 15.7
A31: F030 | B31: Brndon | C31: 160 | D31: 53.2 | E31: 237.8 t | F31: 0.092 | G31: 9999
A32: F031 | B32: AAC Viewfield | C32: 120 | D32: -99 | E32: 189.5 t | F32: 123.2 | G32: 16
A33: F032 | B33: AAC Brandon | C33: 120 | D33: 60.1 | E33: 195.9 t | F33: 100.1 | G33: 15.4
A34: F033 | B34: CDC Landmark | C34: 240 | D34: 58.6 | E34: 386.2 t | F34: 0.08 | G34: 15.4
A35: F034 | B35: Brandon | C35: 120 | D35: 56.8 | E35: 185.9 t | F35: 131.3 | G35: 14.7
... A39: F027 | B39: CDC Landmark | C39: 80 | D39: 54 | E39: 120.3 t | F39: 0.13 | G39: 12.2

Sheet DataSummary
A1: Statistics of numeric / date fields
A2: Statistic | B2: Acres | C2: Yield (bu/ac) | D2: harvest weight | E2: N rate | F2: Moisture %
A3: Count (numbers) | B3: =COUNT(RawData!C2:C39) -> 38 | C3: =COUNT(RawData!D2:D39) -> 38 | D3: =COUNT(RawData!E2:E39) -> 0 | E3: =COUNT(RawData!F2:F39) -> 38 | F3: =COUNT(RawData!G2:G39) -> 35
A4: Count (non-empty) | B4: =COUNTA(RawData!C2:C39) -> 38 | C4: =COUNTA(RawData!D2:D39) -> 38 | D4: =COUNTA(RawData!E2:E39) -> 38 | E4: =COUNTA(RawData!F2:F39) -> 38 | F4: =COUNTA(RawData!G2:G39) -> 37
A5: Minimum | B5: =MIN(RawData!C2:C39) -> 80 | C5: =MIN(RawData!D2:D39) -> -99 | D5: =MIN(RawData!E2:E39) -> 0 | E5: =MIN(RawData!F2:F39) -> 0.08 | F5: =MIN(RawData!G2:G39) -> 11.6
A6: Maximum | B6: =MAX(RawData!C2:C39) -> 320 | C6: =MAX(RawData!D2:D39) -> 1250 | D6: =MAX(RawData!E2:E39) -> 0 | E6: =MAX(RawData!F2:F39) -> 135.9 | F6: =MAX(RawData!G2:G39) -> 9999
A7: Mean | B7: =AVERAGE(RawData!C2:C39) -> 183.15789 | C7: =AVERAGE(RawData!D2:D39) -> 74.347368 | D7: =AVERAGE(RawData!E2:E39) -> #DIV/0! | E7: =AVERAGE(RawData!F2:F39) -> 66.610895 | F7: =AVERAGE(RawData!G2:G39) -> 299.29429
A8: Median | B8: =MEDIAN(RawData!C2:C39) -> 160 | C8: =MEDIAN(RawData!D2:D39) -> 55.85 | D8: =MEDIAN(RawData!E2:E39) -> #NUM! | E8: =MEDIAN(RawData!F2:F39) -> 88.3 | F8: =MEDIAN(RawData!G2:G39) -> 14.5
A10: Table of varieties
A11: Variety | B11: Count
A12: {=_xlfn.UNIQUE(RawData!B2:B39)} -> AAC Viewfield | B12: =COUNTIF(RawData!B2:B39,A12) -> 6
A13: Brandon | B13: =COUNTIF(RawData!B2:B39,A13) -> 5
A14: CDC Landmark | B14: =COUNTIF(RawData!B2:B39,A14) -> 13
A15: Brandon AAC | B15: =COUNTIF(RawData!B2:B39,A15) -> 6
A16: Brndon | B16: =COUNTIF(RawData!B2:B39,A16) -> 4
A17: AAC Brandon | B17: =COUNTIF(RawData!B2:B39,A17) -> 4
A19: Count of observations
A20: Rows | B20: =ROWS(RawData!A2:A39) -> 38
A21: Unique rows | B21: =ROWS(_xlfn.UNIQUE(RawData!A2:G39)) -> 36
A22: Duplicate rows | B22: =B20-B21 -> 2
A24: Issues to fix:
A25: 1. Column names
A26: 2. Yield has impossible values
A27: 3. Harvest weight should be numeric
A28: 5. N rate in different units, it seems -- some very low and others between 80 and 100
A29: 6. Moisture has NA coded as 9999
A30: 7. Brandon has multiple entries
A31: 8. Duplicate rows

Sheet CleanData
A1: field_id | B1: variety | C1: acres | D1: yield | E1: harvest_weight | F1: n_rate | G1: moisture_percentage
A2: F001 | B2: AAC Viewfield | C2: 160 | D2: 67.6 | E2: 297.7 | F2: 97.1 | G2: 12.4
A3: F002 | B3: AAC Brandon | C3: 320 | D3: 54.9 | E3: 476 | F3: 96.2 | G3: 14.7
A4: F003 | B4: CDC Landmark | C4: 120 | D4: 54.4 | E4: 172.6 | F4: 81 | G4: 12.3
A5: F004 | B5: AAC Brandon | C5: 320 | E5: 642.5 | F5: 116.7 | G5: 15.4
A6: F005 | B6: CDC Landmark | C6: 320 | D6: 65.8 | E6: 561.5 | F6: 89.9 | G6: 12.3
A7: F006 | B7: AAC Brandon | C7: 160 | D7: 50.8 | E7: 222.8 | F7: 113
A8: F007 | B8: AAC Viewfield | C8: 80 | E8: 138.6 | F8: 135.9 | G8: 14.5
A9: F008 | B9: AAC Brandon | C9: 160 | D9: 60.3 | E9: 264 | F9: 127.3 | G9: 12.4
A10: F009 | B10: CDC Landmark | C10: 160 | D10: 51.5 | E10: 226.5 | F10: 81 | G10: 13.7
A11: F010 | B11: AAC Brandon | C11: 160 | D11: 58.9 | E11: 256.6 | F11: 92.4 | G11: 16.4
A12: F011 | B12: CDC Landmark | C12: 320 | D12: 54.4 | E12: 481.3 | F12: 82.9 | G12: 12
A13: F012 | B13: AAC Brandon | C13: 240 | D13: 62 | E13: 402.2 | F13: 103 | G13: 13.5
A14: F013 | B14: AAC Viewfield | C14: 240 | D14: 41.5 | E14: 269.8 | F14: 82.7 | G14: 16.5
A15: F014 | B15: AAC Brandon | C15: 160 | D15: 57.8 | E15: 249.6 | F15: 134
A16: F015 | B16: CDC Landmark | C16: 160 | D16: 54.7 | E16: 234.9 | F16: 106 | G16: 11.6
A17: F016 | B17: AAC Brandon | C17: 160 | D17: 52.9 | E17: 225.5 | F17: 128.5 | G17: 13
A18: F017 | B18: CDC Landmark | C18: 240 | D18: 63 | E18: 418.7 | F18: 85.4 | G18: 15.5
A19: F018 | B19: AAC Brandon | C19: 160 | D19: 63.6 | E19: 283.2 | F19: 112 | G19: 15.7
A20: F019 | B20: AAC Viewfield | C20: 120 | E20: 177.8 | F20: 104.1 | G20: 12.6
A21: F020 | B21: AAC Brandon | C21: 160 | D21: 76.6 | E21: 323.9 | F21: 84.7 | G21: 13.1
A22: F021 | B22: CDC Landmark | C22: 240 | D22: 65.1 | E22: 431.7 | F22: 129 | G22: 15.4
A23: F022 | B23: AAC Brandon | C23: 320 | D23: 57.5 | E23: 492 | F23: 96.8
A24: F023 | B24: CDC Landmark | C24: 240 | E24: 365.8 | F24: 87.2 | G24: 16
A25: F024 | B25: AAC Brandon | C25: 120 | D25: 46.5 | E25: 150.5 | F25: 124 | G25: 15.3
A26: F025 | B26: AAC Viewfield | C26: 160 | D26: 51.7 | E26: 226.1 | F26: 100.8 | G26: 11.6
A27: F026 | B27: AAC Brandon | C27: 160 | D27: 59.1 | E27: 252.7 | F27: 132.9 | G27: 15.7
A28: F027 | B28: CDC Landmark | C28: 80 | D28: 54 | E28: 120.3 | F28: 130 | G28: 12.2
A29: F028 | B29: AAC Brandon | C29: 160 | D29: 43.3 | E29: 191.4 | F29: 103.9 | G29: 15
A30: F029 | B30: CDC Landmark | C30: 160 | D30: 63.3 | E30: 268.5 | F30: 106.3 | G30: 15.7
A31: F030 | B31: AAC Brandon | C31: 160 | D31: 53.2 | E31: 237.8 | F31: 92
A32: F031 | B32: AAC Viewfield | C32: 120 | E32: 189.5 | F32: 123.2 | G32: 16
A33: F032 | B33: AAC Brandon | C33: 120 | D33: 60.1 | E33: 195.9 | F33: 100.1 | G33: 15.4
A34: F033 | B34: CDC Landmark | C34: 240 | D34: 58.6 | E34: 386.2 | F34: 80 | G34: 15.4
A35: F034 | B35: AAC Brandon | C35: 120 | D35: 56.8 | E35: 185.9 | F35: 131.3 | G35: 14.7
A36: F035 | B36: CDC Landmark | C36: 160 | D36: 50.1 | E36: 215.8 | F36: 89.4 | G36: 11.7
A37: F036 | B37: AAC Brandon | C37: 160 | D37: 58.2 | E37: 255.6 | F37: 130 | G37: 12.9
